BEGIN:VCALENDAR
VERSION:2.0
PRODID:-//Air Pro - ECPv5.3.1.1//NONSGML v1.0//EN
CALSCALE:GREGORIAN
METHOD:PUBLISH
X-WR-CALNAME:Air Pro
X-ORIGINAL-URL:https://pro.sydneyexecutivehirecar.com
X-WR-CALDESC:Events for Air Pro
BEGIN:VTIMEZONE
TZID:UTC
BEGIN:STANDARD
TZOFFSETFROM:+0000
TZOFFSETTO:+0000
TZNAME:UTC
DTSTART:20180101T000000
END:STANDARD
END:VTIMEZONE
BEGIN:VEVENT
DTSTART;VALUE=DATE:20180415
DTEND;VALUE=DATE:20181217
DTSTAMP:20260419T142047
CREATED:20171006T130210Z
LAST-MODIFIED:20171006T130210Z
UID:2356-1523750400-1545004799@pro.sydneyexecutivehirecar.com
SUMMARY:New Central Unit
DESCRIPTION:It’s time to install the New Central A/C Unit of your dreams! \nFree 5 years parts and labor warranty with purchase 299$ Value!
URL:https://pro.sydneyexecutivehirecar.com/special-offer/new-central-unit/
CATEGORIES:Special Offers
ATTACH;FMTTYPE=image/jpeg:https://pro.sydneyexecutivehirecar.com/wp-content/uploads/2018/04/gallery-6.jpg
END:VEVENT
END:VCALENDAR